BEGIN:VCALENDAR
VERSION:2.0
PRODID:-//MCE Conferences - ECPv6.15.20//NONSGML v1.0//EN
CALSCALE:GREGORIAN
METHOD:PUBLISH
X-ORIGINAL-URL:https://www.mceconferences.com
X-WR-CALDESC:Events for MCE Conferences
REFRESH-INTERVAL;VALUE=DURATION:PT1H
X-Robots-Tag:noindex
X-PUBLISHED-TTL:PT1H
BEGIN:VTIMEZONE
TZID:America/Los_Angeles
BEGIN:DAYLIGHT
TZOFFSETFROM:-0800
TZOFFSETTO:-0700
TZNAME:PDT
DTSTART:20190310T100000
END:DAYLIGHT
BEGIN:STANDARD
TZOFFSETFROM:-0700
TZOFFSETTO:-0800
TZNAME:PST
DTSTART:20191103T090000
END:STANDARD
BEGIN:DAYLIGHT
TZOFFSETFROM:-0800
TZOFFSETTO:-0700
TZNAME:PDT
DTSTART:20200308T100000
END:DAYLIGHT
BEGIN:STANDARD
TZOFFSETFROM:-0700
TZOFFSETTO:-0800
TZNAME:PST
DTSTART:20201101T090000
END:STANDARD
BEGIN:DAYLIGHT
TZOFFSETFROM:-0800
TZOFFSETTO:-0700
TZNAME:PDT
DTSTART:20210314T100000
END:DAYLIGHT
BEGIN:STANDARD
TZOFFSETFROM:-0700
TZOFFSETTO:-0800
TZNAME:PST
DTSTART:20211107T090000
END:STANDARD
BEGIN:DAYLIGHT
TZOFFSETFROM:-0800
TZOFFSETTO:-0700
TZNAME:PDT
DTSTART:20220313T100000
END:DAYLIGHT
BEGIN:STANDARD
TZOFFSETFROM:-0700
TZOFFSETTO:-0800
TZNAME:PST
DTSTART:20221106T090000
END:STANDARD
BEGIN:DAYLIGHT
TZOFFSETFROM:-0800
TZOFFSETTO:-0700
TZNAME:PDT
DTSTART:20230312T100000
END:DAYLIGHT
BEGIN:STANDARD
TZOFFSETFROM:-0700
TZOFFSETTO:-0800
TZNAME:PST
DTSTART:20231105T090000
END:STANDARD
BEGIN:DAYLIGHT
TZOFFSETFROM:-0800
TZOFFSETTO:-0700
TZNAME:PDT
DTSTART:20240310T100000
END:DAYLIGHT
BEGIN:STANDARD
TZOFFSETFROM:-0700
TZOFFSETTO:-0800
TZNAME:PST
DTSTART:20241103T090000
END:STANDARD
BEGIN:DAYLIGHT
TZOFFSETFROM:-0800
TZOFFSETTO:-0700
TZNAME:PDT
DTSTART:20250309T100000
END:DAYLIGHT
BEGIN:STANDARD
TZOFFSETFROM:-0700
TZOFFSETTO:-0800
TZNAME:PST
DTSTART:20251102T090000
END:STANDARD
BEGIN:DAYLIGHT
TZOFFSETFROM:-0800
TZOFFSETTO:-0700
TZNAME:PDT
DTSTART:20260308T100000
END:DAYLIGHT
BEGIN:STANDARD
TZOFFSETFROM:-0700
TZOFFSETTO:-0800
TZNAME:PST
DTSTART:20261101T090000
END:STANDARD
BEGIN:DAYLIGHT
TZOFFSETFROM:-0800
TZOFFSETTO:-0700
TZNAME:PDT
DTSTART:20270314T100000
END:DAYLIGHT
BEGIN:STANDARD
TZOFFSETFROM:-0700
TZOFFSETTO:-0800
TZNAME:PST
DTSTART:20271107T090000
END:STANDARD
END:VTIMEZONE
BEGIN:VEVENT
DTSTART;VALUE=DATE:20260320
DTEND;VALUE=DATE:20260323
DTSTAMP:20260420T090001
CREATED:20250605T013908Z
LAST-MODIFIED:20260313T220449Z
UID:10001438-1773964800-1774223999@www.mceconferences.com
SUMMARY:Primary Care Update: Women's Health\, Office Orthopedics and Sports Medicine
DESCRIPTION:
URL:https://www.mceconferences.com/medical-conference/primary-care-update-cme-moc-continuing-medical-education-omni-hilton-head-oceanfront-resort-hilton-head-island-sc-south-carolina-march-spring-break-20-2026/
LOCATION:Omni Hilton Head Oceanfront Resort\, 23 Ocean Lane\, Hilton Head Island\, SC\, 29928\, United States
CATEGORIES:Orthopedics,Primary Care Update,Sports Medicine,Women's Health
ATTACH;FMTTYPE=image/jpeg:https://www.mceconferences.com/wp-content/uploads/Hilton-Head-6.jpg
ORGANIZER;CN="MCE Conferences":MAILTO:info@mceconferences.com
END:VEVENT
BEGIN:VEVENT
DTSTART;VALUE=DATE:20210709
DTEND;VALUE=DATE:20210712
DTSTAMP:20260420T090001
CREATED:20201119T192033Z
LAST-MODIFIED:20250914T182815Z
UID:10001071-1625788800-1626047999@www.mceconferences.com
SUMMARY:Emergency Medicine for Primary Care
DESCRIPTION:
URL:https://www.mceconferences.com/medical-conference/primary-care-update-hilton-head-south-carolina-2021-07-09/
LOCATION:Omni Hilton Head Oceanfront Resort\, 23 Ocean Lane\, Hilton Head Island\, SC\, 29928\, United States
CATEGORIES:Emergency Medicine,Primary Care Update
ATTACH;FMTTYPE=image/jpeg:https://www.mceconferences.com/wp-content/uploads/MCE-Logo-scaled.jpg
ORGANIZER;CN="MCE Conferences":MAILTO:info@mceconferences.com
END:VEVENT
BEGIN:VEVENT
DTSTART;VALUE=DATE:20200710
DTEND;VALUE=DATE:20200713
DTSTAMP:20260420T090001
CREATED:20200215T022644Z
LAST-MODIFIED:20250912T183657Z
UID:10001017-1594339200-1594598399@www.mceconferences.com
SUMMARY:MODIFIED TO ONLINE LIVE STREAM FORMAT: Pharmacology and Family Medicine Update for Primary Care
DESCRIPTION:
URL:https://www.mceconferences.com/medical-conference/cme-pharmacology-family-medicine-update-primary-care-hilton-head-island-south-carolina-omni-oceanfront-resort-2020-07-10/
LOCATION:Omni Hilton Head Oceanfront Resort\, 23 Ocean Lane\, Hilton Head Island\, SC\, 29928\, United States
CATEGORIES:Family Medicine,Pharmacology
ATTACH;FMTTYPE=image/jpeg:https://www.mceconferences.com/wp-content/uploads/MCE-Logo-scaled.jpg
ORGANIZER;CN="MCE Conferences":MAILTO:info@mceconferences.com
END:VEVENT
END:VCALENDAR